Workbook
Name A: [1]ECABR!#REF!
Name A_impresión_IM: [1]ECABR!#REF!
Name A325_FFF_PEGT_CLC_2301: [1]ECABR!#REF!
Name abc: [2]TOTAL!#REF!
Name Abr: #REF!
Name anexo: [1]ECABR!#REF!
Name B: [3]EGRESOS!#REF!
Name balanza_mes: '[4]Ene-16'!$A$1:$H$200
Name BASE: #REF!
Name cba: [2]TOTAL!#REF!
Name CONTABLE: [2]TOTAL!#REF!
Name Database: [5]REPORTO!#REF!
Name ELOY: #REF!
Name Ene: #REF!
Name Feb: #REF!
Name Fecha: #REF!
Name HF: [6]T1705HF!$B$20:$B$20
Name ju: [5]REPORTO!#REF!
Name Jul: #REF!
Name Jun: #REF!
Name mao: [1]ECABR!#REF!
Name Mar: #REF!
Name May: #REF!
Name MUEBLES: #REF!
Name N: #REF!
Name P: [2]TOTAL!#REF!
Name PRESUPUESTAL: [2]TOTAL!#REF!
Name REPORTO: #REF!
Name sssss: [1]ECABR!#REF!
Name T: #REF!
Name TCAIE: [7]CH1902!$B$20:$B$20
Name TCFEEIS: #REF!
Name TRASP: #REF!
Name U: #REF!
Name x: #REF!

Sheet Notas a los Edos Financieros
A1: Fideicomiso de Apoyo Operativo al Consejo de Cuenca Lerma Chapala <<FICUENCA>> | C1: Ejercicio: | D1: 2026
A2: Notas de Desglose y Memoria | C2: Periodicidad: | D2: Trimestral
A3: Del 01 de enero al 30 de Septiembre de 2026 | C3: Corte: | D3: 3
A4: (Cifras en Pesos)
A5: NOTAS | B5: DESCRIPCIÓN
B7: I. NOTAS DE DESGLOSE:
B9: INFORMACION CONTABLE
A10: ACT-01 | B10: INGRESOS Y OTROS BENEFICIOS
A11: ACT-02 | B11: GASTOS Y OTRAS PERDIDAS
A12: ESF-01 | B12: FONDOS CON AFECTACIÓN ESPECÍFICA E INVERSIONES FINANCIERAS
A13: ESF-02 | B13: CONTRIBUCIONES POR RECUPERAR
A14: ESF-03 | B14: CONTRIBUCIONES POR RECUPERAR CORTO PLAZO
A15: ESF-04 | B15: BIENES DISPONIBLES PARA SU TRANSFORMACIÓN ESTIMACIONES Y DETERIOROS (INVENTARIOS)
A16: ESF-05 | B16: ALMACENES
A17: ESF-06 | B17: FIDEICOMISOS, MANDATOS Y CONTRATOS ANÁLOGOS
A18: ESF-07 | B18: PARTICIPACIONES Y APORTACIONES DE CAPITAL
A19: ESF-08 | B19: BIENES MUEBLES E INMUEBLES
A20: ESF-09 | B20: INTANGIBLES Y DIFERIDOS
A21: ESF-10 | B21: ESTIMACIONES Y DETERIOROS
... A36: Conciliacion_Eg | B36: CONCILIACIÓN ENTRE LOS EGRESOS PRESUPUESTARIOS Y LOS GASTOS CONTABLES
B38: II. DE MEMORIA (DE ORDEN):
A39: Memoria | B39: CONTABLES
B40: PRESUPUESTARIAS
B41: INGRESOS
B42: EGRESOS
A45: Bajo protesta de decir verdad declaramos que los Estados Financieros y sus notas, son razonablemente correctos y son responsabilidad del emisor.
B48: Ing. Marisol Suárez Correa
B49: Presidenta del Comité Técnico
B52: Juan Lara Centeno
B53: Dirección de Control y Seguimiento de Fideicomisos

Sheet ACT
A1: ='[8]Notas a los Edos Financieros'!A1 -> Fideicomiso de Apoyo Operativo al Consejo de Cuenca Lerma Chapala <<FICUENCA>> | D1: Ejercicio: | E1: ='[8]Notas a los Edos Financieros'!D1 -> 2026
A2: Notas de Desglose Estado de Actividades | D2: Periodicidad: | E2: ='[8]Notas a los Edos Financieros'!D2 -> Trimestral
A3: ='Notas a los Edos Financieros'!A3 -> Del 01 de enero al 30 de Septiembre de 2026 | D3: Corte: | E3: 3
A4: (Cifras en Pesos)
A5: Notas
A7: ACT-01 INGRESOS y OTROS BENEFICIOS
A8: Cuenta | B8: Nombre de la Cuenta | C8: Monto | D8: % | E8: Explicación
A9: 4000 | B9: INGRESOS Y OTROS BENEFICIOS | C9: =+C36+C57+C69+C48 -> 2229871.5 | D9: =IFERROR(C9/$C$48,"") -> 74.648894
A10: 4100 | B10: INGRESOS DE GESTION | C10: =+C11+C21+C27+C30+C36+C39+C48 -> 29871.46 | D10: =IFERROR(C10/$C$48,"") -> 1
A11: 4110 | B11: Impuestos | C11: 0 | D11: =IFERROR(C11/$C$48,"") -> 0
A12: 4111 | B12: Impuestos Sobre los Ingresos | C12: 0 | D12: =IFERROR(C12/$C$48,"") -> 0
A13: 4112 | B13: Impuestos Sobre el Patrimonio | C13: 0 | D13: =IFERROR(C13/$C$48,"") -> 0
A14: 4113 | B14: Impuestos Sobre la Producción, el Consumo y las Transacciones | C14: 0 | D14: =IFERROR(C14/$C$48,"") -> 0
A15: 4114 | B15: Impuestos al Comercio Exterior | C15: 0 | D15: =IFERROR(C15/$C$48,"") -> 0
A16: 4115 | B16: Impuestos Sobre Nóminas y Asimilables | C16: 0 | D16: =IFERROR(C16/$C$48,"") -> 0
A17: 4116 | B17: Impuestos Ecológicos | C17: 0 | D17: =IFERROR(C17/$C$48,"") -> 0
A18: 4117 | B18: Accesorios de Impuestos | C18: 0 | D18: =IFERROR(C18/$C$48,"") -> 0
A19: 4118 | B19: Impuestos no Comprendidos en la Ley de Ingresos Vigente, Causados en Ejercicios Fiscales Anteriores Pendientes de Liquidación o Pago | C19: 0 | D19: =IFERROR(C19/$C$48,"") -> 0
A20: 4119 | B20: Otros Impuestos | C20: 0 | D20: =IFERROR(C20/$C$48,"") -> 0
A21: 4120 | B21: Cuotas y Aportaciones de Seguridad Social | C21: 0 | D21: =IFERROR(C21/$C$48,"") -> 0
A22: 4121 | B22: Aportaciones para Fondos de Vivienda | C22: 0 | D22: =IFERROR(C22/$C$48,"") -> 0
... A47: 4169 | B47: Otros Aprovechamientos | C47: 0 | D47: =IFERROR(C47/$C$48,"") -> 0
A48: 4170 | B48: Ingresos por Venta de Bienes y Prestación de Servicios | C48: =+C51 -> 29871.46 | D48: =IFERROR(C48/$C$48,"") -> 1
A49: 4171 | B49: Ingresos por Venta de Bienes y Prestación de Servicios de Instituciones Públicas de Seguridad Social | C49: 0 | D49: =IFERROR(C49/$C$48,"") -> 0
A50: 4172 | B50: Ingresos por Venta de Bienes y Prestación de Servicios de Empresas Productivas del Estado | C50: 0 | D50: =IFERROR(C50/$C$48,"") -> 0
A51: 4173 | B51: Ingresos por Venta de Bienes y Prestación de Servicios de Entidades Paraestatales y Fideicomisos No Empresariales y No Financieros | C51: =+[9]ACT!B11 -> 29871.46 | D51: =IFERROR(C51/$C$48,"") -> 1
A52: 4174 | B52: Ingresos por Venta de Bienes y Prestación de Servicios de Entidades Paraestatales Empresariales No Financieras con Participación Estatal Mayoritaria | C52: 0 | D52: =IFERROR(C52/$C$48,"") -> 0
A53: 4175 | B53: Ingresos por Venta de Bienes y Prestación de Servicios de Entidades Paraestatales Empresariales Financieras Monetarias con Participación Estatal Mayoritaria | C53: 0 | D53: =IFERROR(C53/$C$48,"") -> 0
A54: 4176 | B54: Ingresos por Venta de Bienes y Prestación de Servicios de Entidades Paraestatales Empresariales Financieras No Monetarias con Participación Estatal Mayoritaria | C54: 0 | D54: =IFERROR(C54/$C$48,"") -> 0
A55: 4177 | B55: Ingresos por Venta de Bienes y Prestación de Servicios de Fideicomisos Financieros Públicos con Participación Estatal Mayoritaria | C55: 0 | D55: =IFERROR(C55/$C$48,"") -> 0
A56: 4178 | B56: Ingresos por Venta de Bienes y Prestación de Servicios de los Poderes Legislativo y Judicial, y de los Órganos Autónomos | C56: 0 | D56: =IFERROR(C56/$C$48,"") -> 0
A57: 4200 | B57: PARTICIPACIONES, APORTACIONES, CONVENIOS, INCENTIVOS DERIVADOS DE LA COLABORACIÓN FISCAL, FONDOS DISTINTOS DE APORTACIONES, TRANSFERENCIAS, ASIGNACIONES, SUBSIDIOS Y SUBVENCIONES, Y PENSIONES Y JUBILACIONES | C57: =+C58+C64 -> 2200000 | D57: =IFERROR(C57/$C$48,"") -> 73.648894
A58: 4210 | B58: Participaciones, Aportaciones, Convenios, Incentivos Derivados de la Colaboración Fiscal y Fondos Distintos de Aportaciones | C58: 0 | D58: =IFERROR(C58/$C$48,"") -> 0
A59: 4211 | B59: Participaciones | C59: 0 | D59: =IFERROR(C59/$C$48,"") -> 0
A60: 4212 | B60: Aportaciones | C60: 0 | D60: =IFERROR(C60/$C$48,"") -> 0
A61: 4213 | B61: Convenios | C61: 0 | D61: =IFERROR(C61/$C$48,"") -> 0
A62: 4214 | B62: Incentivos derivados de la Colaboración Fiscal | C62: 0 | D62: =IFERROR(C62/$C$48,"") -> 0
A63: 4215 | B63: Fondos Distintos de Aportaciones | C63: 0 | D63: =IFERROR(C63/$C$48,"") -> 0
A64: 4220 | B64: Transferencias, Asignaciones, Subsidios y Otras ayudas | C64: =+C65 -> 2200000 | D64: =IFERROR(C64/$C$48,"") -> 73.648894
A65: 4221 | B65: Transferencias Internas y Asignaciones del Sector Público | C65: =+[9]ACT!B15 -> 2200000 | D65: =IFERROR(C65/$C$48,"") -> 73.648894
...

Sheet ESF
A1: ='[8]Notas a los Edos Financieros'!A1 -> Fideicomiso de Apoyo Operativo al Consejo de Cuenca Lerma Chapala <<FICUENCA>> | G1: Ejercicio: | H1: ='[8]Notas a los Edos Financieros'!D1 -> 2026
A2: Notas de Desglose Estado de Situación Financiera | G2: Periodicidad: | H2: ='[8]Notas a los Edos Financieros'!D2 -> Trimestral
A3: ='Notas a los Edos Financieros'!A3 -> Del 01 de enero al 30 de Septiembre de 2026 | G3: Corte: | H3: ='Notas a los Edos Financieros'!D3 -> 3
A4: (Cifras en Pesos)
A5: Notas
A7: ESF-01 FONDOS CON AFECTACIÓN ESPECÍFICA E INVERSIONES FINANCIERAS
A8: Cuenta | B8: Nombre de la Cuenta | C8: Monto | D8: Tipo
A9: 1114 | B9: Inversiones Temporales (Hasta 3 meses) | C9: 2178865.6
A10: 1115 | B10: Fondos con Afectación Específica | C10: 0
A11: 1121 | B11: Inversiones Financieras de Corto Plazo | C11: 0
A13: ESF-02 CONTRIBUCIONES POR RECUPERAR
A14: Cuenta | B14: Nombre de la Cuenta | C14: Monto | D14: 2025 | E14: =D14-1 -> 2024 | F14: =E14-1 -> 2023 | G14: =F14-1 -> 2022 | H14: Factibilidad de Cobro
A15: 1122 | B15: Cuentas por Cobrar a Corto Plazo | C15: 0 | D15: 0 | E15: 0 | F15: 0 | G15: 0 | H15: SIN INFORMACION QUE REVELAR
A16: 1124 | B16: Ingresos por Recuperar a Corto Plazo | C16: 0 | D16: 0 | E16: 0 | F16: 0 | G16: 0
A18: ESF-03 CONTRIBUCIONES POR RECUPERAR CORTO PLAZO
A19: Cuenta | B19: Nombre de la Cuenta | C19: Monto | D19: A 90 Días | E19: A 180 Días | F19: A 365 Días | G19: + 365 Días | H19: Característica
A20: 1123 | B20: Deudores Diversos por Cobrar a Corto Plazo | C20: 0 | D20: 0 | E20: 0 | F20: 0 | G20: 0
A21: 1125 | B21: Deudores por Anticipos de la Tesorería a Corto Plazo | C21: 0 | D21: 0 | E21: 0 | F21: 0 | G21: 0
A22: 1126 | B22: Préstamos Otorgados a Corto Plazo | C22: 0 | D22: 0 | E22: 0 | F22: 0 | G22: 0
A23: 1129 | B23: Otros Derechos a Recibir Efectivo o Equivalentes a Corto Plazo | C23: 0 | D23: 0 | E23: 0 | F23: 0 | G23: 0 | H23: SIN INFORMACION QUE REVELAR
A24: 1131 | B24: Anticipo a Proveedores por Adquisición de Bienes y Prestación de Servicios a Corto Plazo | C24: 0 | D24: 0 | E24: 0 | F24: 0 | G24: 0
A25: 1132 | B25: Anticipo a Proveedores por Adquisición de Bienes Inmuebles y Muebles a Corto Plazo | C25: 0 | D25: 0 | E25: 0 | F25: 0 | G25: 0
A26: 1133 | B26: Anticipo a Proveedores por Adquisición de Bienes Intangibles a Corto Plazo | C26: 0 | D26: 0 | E26: 0 | F26: 0 | G26: 0
A27: 1134 | B27: Anticipo a Contratistas por Obras Públicas a Corto Plazo | C27: 0 | D27: 0 | E27: 0 | F27: 0 | G27: 0
A28: 1139 | B28: Otros Derechos a Recibir Bienes o Servicios a Corto Plazo | C28: 0 | D28: 0 | E28: 0 | F28: 0 | G28: 0
A30: ESF-04 BIENES DISPONIBLES PARA SU TRANSFORMACIÓN ESTIMACIONES Y DETERIOROS (INVENTARIOS)
A31: Cuenta | B31: Nombre de la Cuenta | C31: Monto | D31: Sistema de Costeo | E31: Método de Valuación | F31: Impacto de Información Financiera
A32: 1140 | B32: Inventarios | C32: 0
A33: 1141 | B33: Inventario de Mercancías para Venta | C33: 0
A34: 1142 | B34: Inventario de Mercancías Terminadas | C34: 0
A35: 1143 | B35: Inventario de Mercancías en Proceso de Elaboración | C35: 0 | D35: SIN INFORMACION QUE REVELAR
A36: 1144 | B36: Inventario de Materias Primas, Materiales y Suministros para Producción | C36: 0
A37: 1145 | B37: Bienes en Tránsito | C37: 0
A39: ESF-05 ALMACENES
A40: Cuenta | B40: Nombre de la Cuenta | C40: Monto | D40: Método de Valuación | E40: Conveniencia de Aplicación | F40: Impacto de Información Financiera
A41: 1150 | B41: Almacenes | C41: 0 | D41: SIN INFORMACION QUE REVELAR
A42: 1151 | B42: Almacén de Materiales y Suministros de Consumo | C42: 0
A44: ESF-06 FIDEICOMISOS, MANDATOS Y CONTRATOS ANÁLOGOS
A45: Cuenta | B45: Nombre de la Cuenta | C45: Monto | D45: Tipo | E45: Característica
A46: 1213 | B46: Fideicomisos, Mandatos y Contratos Análogos | C46: 0 | D46: SIN INFORMACION QUE REVELAR
...

Sheet VHP
A1: =[8]ESF!A1 -> Fideicomiso de Apoyo Operativo al Consejo de Cuenca Lerma Chapala <<FICUENCA>> | D1: Ejercicio: | E1: ='[8]Notas a los Edos Financieros'!D1 -> 2026
A2: Notas de Desglose Estado de Variación en la Hacienda Pública | D2: Periodicidad: | E2: ='[8]Notas a los Edos Financieros'!D2 -> Trimestral
A3: =ESF!A3 -> Del 01 de enero al 30 de Septiembre de 2026 | D3: Corte: | E3: ='Notas a los Edos Financieros'!D3 -> 3
A4: (Cifras en Pesos)
A5: Notas
A7: VHP-01 PATRIMONIO CONTRIBUIDO
A8: Cuenta | B8: Nombre de la Cuenta | C8: Monto | D8: Tipo | E8: Naturaleza
A9: 3110 | B9: Aportaciones | C9: 0
A10: 3120 | B10: Donaciones de Capital | C10: 0 | D10: SIN INFORMACION QUE REVELAR
A11: 3130 | B11: Actualización de la Hacienda Pública/Patrimonio | C11: 0
A13: VHP-02 PATRIMONIO GENERADO
A14: Cuenta | B14: Nombre de la Cuenta | C14: Monto | D14: Procedencia
A15: 3210 | B15: Resultado del Ejercicio (Ahorro/Desahorro) | C15: =+[9]ESF!E36 -> 766053.12
A16: 3220 | B16: Resultados de Ejercicios Anteriores | C16: =[9]ESF!E37 -> 1611593.7
A17: 3230 | B17: Revalúos | C17: 0
A18: 3231 | B18: Revalúo de Bienes Inmuebles | C18: 0
A19: 3232 | B19: Revalúo de Bienes Muebles | C19: 0
A20: 3233 | B20: Revalúo de Bienes Intangibles | C20: 0
A21: 3239 | B21: Otros Revalúos | C21: 0
A22: 3240 | B22: Reservas | C22: 0
A23: 3241 | B23: Reservas de Patrimonio | C23: 0
A24: 3242 | B24: Reservas Territoriales | C24: 0
A25: 3243 | B25: Reservas por Contingencias | C25: 0
A26: 3250 | B26: Rectificaciones de Resultados de Ejercicios Anteriores | C26: 0
A27: 3251 | B27: Cambios en Políticas Contables | C27: 0
A28: 3252 | B28: Cambios por Errores Contables | C28: 0
A29: 3253 | B29: Cambios en Estimaciones Contables | C29: 0
A31: Bajo protesta de decir verdad declaramos que los Estados Financieros y sus notas, son razonablemente correctos y son responsabilidad del emisor.
B34: Ing. Marisol Suárez Correa
B35: Presidenta del Comité Técnico
B38: Juan Lara Centeno
B39: Dirección de Control y Seguimiento de Fideicomisos

Sheet EFE
A1: =[8]ESF!A1 -> Fideicomiso de Apoyo Operativo al Consejo de Cuenca Lerma Chapala <<FICUENCA>> | D1: Ejercicio: | E1: ='[8]Notas a los Edos Financieros'!D1 -> 2026
A2: Notas de Desglose Estado de Flujos de Efectivo | D2: Periodicidad: | E2: ='[8]Notas a los Edos Financieros'!D2 -> Trimestral
A3: =ESF!A3 -> Del 01 de enero al 30 de Septiembre de 2026 | D3: Corte: | E3: ='Notas a los Edos Financieros'!D3 -> 3
A4: (Cifras en Pesos)
A5: Notas
A7: EFE-01 EFECTIVO Y EQUIVALENTES
A8: Cuenta | B8: Nombre de la Cuenta | C8: 2026 | D8: =C8-1 -> 2025
A9: 1111 | B9: Efectivo | C9: 0 | D9: 0
A10: 1112 | B10: Bancos/Tesorería | C10: 2.57 | D10: 38.24
A11: 1113 | B11: Bancos/Dependencias y Otros | C11: 0 | D11: 0
A12: 1114 | B12: Inversiones Temporales (Hasta 3 meses) | C12: =ESF!C9 -> 2178865.6 | D12: 1382908.2
A13: 1115 | B13: Fondos con Afectación Específica | C13: 0 | D13: 0
A14: 1116 | B14: Depósitos de Fondos de Terceros en Garantía y/o Administración | C14: 0 | D14: 0
A15: 1119 | B15: Otros Efectivos y Equivalentes | C15: 0 | D15: 0
A16: 1110 | B16: Total de Efectivo y Equivalentes | C16: =SUM(C9:C15) -> 2178868.2 | D16: =SUM(D9:D15) -> 1382946.5
A19: EFE-02 ADQ. DE ACT. DE INVERSIÓN EFECTIVAMENTE PAGADAS
A20: Cuenta | B20: Nombre de la Cuenta | C20: 2026 | D20: =C20-1 -> 2025
A21: 1230 | B21: Bienes Inmuebles, Infraestructura y Construcciones en Proceso | C21: 0 | D21: 0
A22: 1231 | B22: Terrenos | C22: 0 | D22: 0
A23: 1232 | B23: Viviendas | C23: 0 | D23: 0
A24: 1233 | B24: Edificios no Habitacionales | C24: 0 | D24: 0
A25: 1234 | B25: Infraestructura | C25: 0 | D25: 0
A26: 1235 | B26: Construcciones en Proceso en Bienes de Dominio Público | C26: 0 | D26: 0
A27: 1236 | B27: Construcciones en Proceso en Bienes Propios | C27: 0 | D27: 0
A28: 1239 | B28: Otros Bienes Inmuebles | C28: 0 | D28: 0
A29: 1240 | B29: Bienes Muebles | C29: 0 | D29: 0
A30: 1241 | B30: Mobiliario y Equipo de Administración | C30: 0 | D30: 0
A31: 1242 | B31: Mobiliario y Equipo Educacional y Recreativo | C31: 0 | D31: 0
A32: 1243 | B32: Equipo e Instrumental Médico y de Laboratorio | C32: 0 | D32: 0 | E32: SIN INFORMACION QUE REVELAR
A33: 1244 | B33: Vehículos y Equipo de Transporte | C33: 0 | D33: 0
A34: 1245 | B34: Equipo de Defensa y Seguridad | C34: 0 | D34: 0
A35: 1246 | B35: Maquinaria, Otros Equipos y Herramientas | C35: 0 | D35: 0
A36: 1247 | B36: Colecciones, Obras de Arte y Objetos Valiosos | C36: 0 | D36: 0
A37: 1248 | B37: Activos Biológicos | C37: 0 | D37: 0
A38: 1250 | B38: Activos Intangibles | C38: 0 | D38: 0
A39: 1251 | B39: Software | C39: 0 | D39: 0
A40: 1252 | B40: Patentes, Marcas y Derechos | C40: 0 | D40: 0
A41: 1253 | B41: Concesiones y Franquicias | C41: 0 | D41: 0
A42: 1254 | B42: Licencias | C42: 0 | D42: 0
A43: 1259 | B43: Otros Activos Intangibles | C43: 0 | D43: 0
...

Sheet Conciliacion_Ig
A1: =[8]ESF!A1 -> Fideicomiso de Apoyo Operativo al Consejo de Cuenca Lerma Chapala <<FICUENCA>>
A2: Conciliación entre los Ingresos Presupuestarios y Contables
A3: =ESF!A3 -> Del 01 de enero al 30 de Septiembre de 2026
A4: (Cifras en pesos)
A5: Concepto | C5: 2026
A6: 1. Total de Ingresos Presupuestarios | C6: =+'[9]EAI (2)'!F15 -> 2229871.5
A8: 2. Más Ingresos Contables No Presupuestarios | C8: =SUM(C9:C14) -> 0
A9: 2.1 | B9: Ingresos Financieros | C9: 0
A10: 2.2 | B10: Incremento por Variación de inventarios | C10: 0
A11: 2.3 | B11: Disminución del Exceso de Estimaciones por Pérdida o Deterioro u Obsolescencia | C11: 0
A12: 2.4 | B12: Disminución del Exceso de Provisiones | C12: 0
A13: 2.5 | B13: Otros Ingresos y Beneficios Varios | C13: 0
A14: 2.6 | B14: Otros Ingresos Contables No Presupuestarios | C14: 0
A16: 3. Menos Ingresos Presupuestarios No Contables | C16: =SUM(C17:C19) -> 0
A17: 3.1 | B17: Aprovechamientos Patrimoniales | C17: 0
A18: 3.2 | B18: Ingresos Derivados de Financiamientos | C18: 0
A19: 3.3 | B19: Otros Ingresos Presupuestarios No Contables | C19: 0
A21: 4. Total de Ingresos Contables | C21: =C6+C8-C16 -> 2229871.5
A23: Bajo protesta de decir verdad declaramos que los Estados Financieros y sus notas, son razonablemente correctos y son responsabilidad del emisor.
B28: Ing. Marisol Suárez Correa
B29: Presidenta del Comité Técnico
E31: =+C21-[9]ACT!B24 -> 0
B32: Juan Lara Centeno
B33: Dirección de Control y Seguimiento de Fideicomisos

Sheet Conciliacion_Eg
A1: =[8]ESF!A1 -> Fideicomiso de Apoyo Operativo al Consejo de Cuenca Lerma Chapala <<FICUENCA>>
A2: Conciliación entre los Egresos Presupuestarios y los Gastos Contables
A3: =ESF!A3 -> Del 01 de enero al 30 de Septiembre de 2026
A4: (Cifras en pesos)
A5: Concepto | C5: 2026
A6: 1. Total de Egresos Presupuestarios | C6: =[9]COG!E76 -> 1398123.6
A8: 2. Menos Egresos Presupuestarios No Contables | C8: =SUM(C9:C29) -> 0
A9: 2.1 | B9: Materias Primas y Materiales de Producción y Comercialización | C9: 0
A10: 2.2 | B10: Materiales y Suministros | C10: 0
A11: 2.3 | B11: Mobiliario y Equipo de Administración | C11: 0
A12: 2.4 | B12: Mobiliario y Equipo Educacional y Recreativo | C12: 0
A13: 2.5 | B13: Equipo e Instrumental Médico y de Laboratorio | C13: 0
A14: 2.6 | B14: Vehículos y Equipo de Transporte | C14: 0
A15: 2.7 | B15: Equipo de Defensa y Seguridad | C15: 0
A16: 2.8 | B16: Maquinaria, Otros Equipos y Herramientas | C16: 0
A17: 2.9 | B17: Activos Biológicos | C17: 0
A18: 2.10 | B18: Bienes Inmuebles | C18: 0
A19: 2.11 | B19: Activos Intangibles | C19: 0
A20: 2.12 | B20: Obra Pública en Bienes de Dominio Público | C20: 0
A21: 2.13 | B21: Obra Pública en Bienes Propios | C21: 0
A22: 2.14 | B22: Acciones y Participaciones de Capital | C22: 0
A23: 2.15 | B23: Compra de Títulos y Valores | C23: 0
A24: 2.16 | B24: Concesión de Préstamos | C24: 0
A25: 2.17 | B25: Inversiones en Fideicomisos, Mandatos y Otros Análogos | C25: 0
A26: 2.18 | B26: Provisiones para Contingencias y Otras Erogaciones Especiales | C26: 0
A27: 2.19 | B27: Amortización de la Deuda Pública | C27: 0
A28: 2.20 | B28: Adeudos de Ejercicios Fiscales Anteriores (ADEFAS) | C28: 0
A29: 2.21 | B29: Otros Egresos Presupuestarios No Contables | C29: 0
A31: 3. Más Gastos Contables No Presupuestarios | C31: =SUM(C32:C38) -> 65694.69
A32: 3.1 | B32: Estimaciones, Depreciaciones, Deterioros, Obsolescencia y Amortizaciones | C32: =[9]ACT!B56 -> 65694.69
A33: 3.2 | B33: Provisiones | C33: 0
A34: 3.3 | B34: Disminución de Inventarios | C34: 0
A35: 3.4 | B35: Otros Gastos | C35: 0
A36: 3.5 | B36: Inversión Pública no Capitalizable | C36: 0
A37: 3.6 | B37: Materiales y Suministros (consumos) | C37: 0
A38: 3.7 | B38: Otros Gastos Contables No Presupuestarios | C38: 0
A40: 4. Total de Gastos Contables | C40: =C6-C8+C31 -> 1463818.3
A42: Bajo protesta de decir verdad declaramos que los Estados Financieros y sus notas, son razonablemente correctos y son responsabilidad del emisor.
B45: Ing. Marisol Suárez Correa
B46: Presidenta del Comité Técnico
...

Sheet Memoria
A1: ='[8]Notas a los Edos Financieros'!A1 -> Fideicomiso de Apoyo Operativo al Consejo de Cuenca Lerma Chapala <<FICUENCA>> | G1: Ejercicio: | H1: ='[8]Notas a los Edos Financieros'!D1 -> 2026
A2: Notas de Memoria | G2: Periodicidad: | H2: ='[8]Notas a los Edos Financieros'!D2 -> Trimestral
A3: ='Notas a los Edos Financieros'!A3 -> Del 01 de enero al 30 de Septiembre de 2026 | G3: Corte: | H3: ='Notas a los Edos Financieros'!D3 -> 3
A4: (Cifras en Pesos)
A5: Notas
A8: Cuenta | B8: Concepto | C8: Saldo Inicial | D8: Cargos del Período | E8: Abonos del Período | F8: Saldo Final | G8: Valores en Custodia | H8: Tasa | I8: Vencimiento | J8: Tipo de Contrato
A9: 7000 | B9: CUENTAS DE ORDEN CONTABLES
A10: 7110 | B10: Valores en Custodia | C10: 0 | D10: 2 | E10: 2 | F10: 0
A11: 7120 | B11: Custodia de Valores | C11: 0 | D11: 0 | E11: 0 | F11: 0
A12: 7130 | B12: Instrumentos de Crédito Prestados a Formadores de Mercado | C12: 0 | D12: 0 | E12: 0 | F12: 0
A13: 7140 | B13: Préstamo de Instrumentos de Crédito a Formadores de Mercado y su Garantía | C13: 0 | D13: 0 | E13: 0 | F13: 0
A14: 7150 | B14: Instrumentos de Crédito Recibidos en Garantía de los Formadores de Mercado | C14: 0 | D14: 0 | E14: 0 | F14: 0
A15: 7160 | B15: Garantía de Créditos Recibidos de los Formadores de Mercado | C15: 0 | D15: 0 | E15: 0 | F15: 0
A16: 7210 | B16: Autorización para la Emisión de Bonos, Títulos y Valores de la Deuda Pública Interna | C16: 0 | D16: 0 | E16: 0 | F16: 0 | G16: SIN INFORMACION QUE REVELAR
A17: 7220 | B17: Autorización para la Emisión de Bonos, Títulos y Valores de la Deuda Pública Externa | C17: 0 | D17: 0 | E17: 0 | F17: 0
A18: 7230 | B18: Emisiones Autorizadas de la Deuda Pública Interna y Externa | C18: 0 | D18: 0 | E18: 0 | F18: 0
A19: 7240 | B19: Suscripción de Contratos de Préstamos y Otras Obligaciones de la Deuda Pública Interna | C19: 0 | D19: 0 | E19: 0 | F19: 0
A20: 7250 | B20: Suscripción de Contratos de Préstamos y Otras Obligaciones de la Deuda Pública Externa | C20: 0 | D20: 0 | E20: 0 | F20: 0
A21: 7260 | B21: Contratos de Préstamos y Otras Obligaciones de la Deuda Pública Interna y Externa | C21: 0 | D21: 0 | E21: 0 | F21: 0
A22: 7310 | B22: Avales Autorizados | C22: 0 | D22: 0 | E22: 0 | F22: 0
A23: 7320 | B23: Avales Firmados | C23: 0 | D23: 0 | E23: 0 | F23: 0
A24: 7330 | B24: Fianzas y Garantías Recibidas por Deudas a Cobrar | C24: 0 | D24: 0 | E24: 0 | F24: 0
A25: 7340 | B25: Fianzas y Garantías Recibidas | C25: 0 | D25: 0 | E25: 0 | F25: 0
A26: 7350 | B26: Fianzas Otorgadas para Respaldar Obligaciones no Fiscales del Gobierno | C26: 0 | D26: 0 | E26: 0 | F26: 0
A27: 7360 | B27: Fianzas Otorgadas del Gobierno para Respaldar Obligaciones no Fiscales | C27: 0 | D27: 0 | E27: 0 | F27: 0
A28: 7410 | B28: Demandas Judiciales en Proceso de Resolución | C28: 0 | D28: 0 | E28: 0 | F28: 0
... A35: 7640 | B35: Contrato de Comodato por Bienes | C35: 0 | D35: 0 | E35: 2 | F35: 2
A37: 8000 | B37: CUENTAS DE ORDEN PRESUPUESTARIO
B39: Cuentas de Orden Presupuestarias de Ingresos
B40: Concepto | C40: 2026
A41: 8110 | B41: Ley de Ingresos Estimada | C41: 0
A42: 8120 | B42: Ley de Ingresos por Ejecutar | C42: -1323980.4
A43: 8130 | B43: Modificaciones a la Ley de Ingresos Estimada | C43: 3553851.9
A44: 8140 | B44: Ley de Ingresos Devengada | C44: 2229871.5
A45: 8150 | B45: Ley de Ingresos Recaudada | C45: 2229871.5
B48: Cuentas de Orden Presupuestarias de Egresos
B49: Concepto | C49: 2026
A50: 8210 | B50: Presupuesto de Egresos Aprobado | C50: 0
A51: 8220 | B51: Presupuesto de Egresos por Ejercer | C51: 1675833.9
A52: 8230 | B52: Modificaciones al Presupuesto de Egresos Aprobado | C52: -3553851.9
...
